BEGIN:VCALENDAR
VERSION:2.0
PRODID:-//eventon.com NONSGML v1.0//EN
CALSCALE:GREGORIAN
METHOD:PUBLISH
BEGIN:VEVENT
UID:69e9f471cce4c
DTSTAMP:20260423T102905Z
DTSTART:20240813T023000Z
DTEND:20240813T113000Z
LOCATION:
SUMMARY:Independence Day Programme (Class II)
DESCRIPTION:\nhttps://mountcarmelschool.com/mcsevent/independence-day-progr
 amme-class-ii/
URL:https://mountcarmelschool.com/mcsevent/independence-day-programme-class-ii/
END:VEVENT
END:VCALENDAR