BEGIN:VCALENDAR
VERSION:2.0
PRODID:-//eventon.com NONSGML v1.0//EN
CALSCALE:GREGORIAN
METHOD:PUBLISH
BEGIN:VEVENT
UID:69e7c3516b1dc
DTSTAMP:20260421T183457Z
DTSTART:20240813T023000Z
DTEND:20240813T113000Z
LOCATION:
SUMMARY:Documentary on India’s Freedom Movement (Class III)
DESCRIPTION:\nhttps://mountcarmelschool.com/mcsevent/documentary-on-indias-
 freedom-movement-class-iii/
URL:https://mountcarmelschool.com/mcsevent/documentary-on-indias-freedom-movement-class-iii/
END:VEVENT
END:VCALENDAR