BEGIN:VCALENDAR
VERSION:2.0
PRODID:-//eventon.com NONSGML v1.0//EN
CALSCALE:GREGORIAN
METHOD:PUBLISH
BEGIN:VEVENT
UID:69eb61c58a58a
DTSTAMP:20260424T122749Z
DTSTART:20240809T023000Z
DTEND:20240809T113000Z
LOCATION:
SUMMARY:Tri-Colour Badge Making (LKG)
DESCRIPTION:\nhttps://mountcarmelschool.com/mcsevent/tri-colour-badge-makin
 g-lkg/
URL:https://mountcarmelschool.com/mcsevent/tri-colour-badge-making-lkg/
END:VEVENT
END:VCALENDAR