BEGIN:VCALENDAR
VERSION:2.0
PRODID:-//eventon.com NONSGML v1.0//EN
CALSCALE:GREGORIAN
METHOD:PUBLISH
BEGIN:VEVENT
UID:69e7d905c6022
DTSTAMP:20260421T200733Z
DTSTART:20240918T023000Z
DTEND:20240918T113000Z
LOCATION:
SUMMARY:NEIGHBOURHOOD DAY
DESCRIPTION:\nhttps://mountcarmelschool.com/mcsevent/neighbourhood-day/
URL:https://mountcarmelschool.com/mcsevent/neighbourhood-day/
END:VEVENT
END:VCALENDAR