BEGIN:VCALENDAR
VERSION:2.0
PRODID:-//eventon.com NONSGML v1.0//EN
CALSCALE:GREGORIAN
METHOD:PUBLISH
BEGIN:VEVENT
UID:69e749c467b33
DTSTAMP:20260421T095620Z
DTSTART:20240919T023000Z
DTEND:20240919T113000Z
LOCATION:
SUMMARY:ENGLISH RECITATION COMPETITION
DESCRIPTION:\nhttps://mountcarmelschool.com/mcsevent/english-recitation-com
 petition/
URL:https://mountcarmelschool.com/mcsevent/english-recitation-competition/
END:VEVENT
END:VCALENDAR