BEGIN:VCALENDAR
VERSION:2.0
PRODID:-//eventon.com NONSGML v1.0//EN
CALSCALE:GREGORIAN
METHOD:PUBLISH
BEGIN:VEVENT
UID:69eca754b801a
DTSTAMP:20260425T113652Z
DTSTART:20240918T023000Z
DTEND:20240919T113000Z
LOCATION:
SUMMARY:TRIP TO AGRA
DESCRIPTION:\nhttps://mountcarmelschool.com/mcsevent/trip-to-agra/
URL:https://mountcarmelschool.com/mcsevent/trip-to-agra/
END:VEVENT
END:VCALENDAR