BEGIN:VCALENDAR
VERSION:2.0
PRODID:-//eventon.com NONSGML v1.0//EN
CALSCALE:GREGORIAN
METHOD:PUBLISH
BEGIN:VEVENT
UID:69ea6c015a530
DTSTAMP:20260423T185913Z
DTSTART:20241004T023000Z
DTEND:20241004T113000Z
LOCATION:
SUMMARY:Photography (Computer Week) Inter-house competition
DESCRIPTION:\nhttps://mountcarmelschool.com/mcsevent/photography-computer-w
 eek-inter-house-competition/
URL:https://mountcarmelschool.com/mcsevent/photography-computer-week-inter-house-competition/
END:VEVENT
END:VCALENDAR