BEGIN:VCALENDAR
VERSION:2.0
PRODID:-//eventon.com NONSGML v1.0//EN
CALSCALE:GREGORIAN
METHOD:PUBLISH
BEGIN:VEVENT
UID:69e7351419659
DTSTAMP:20260421T082804Z
DTSTART:20241015T023000Z
DTEND:20241015T113000Z
LOCATION:
SUMMARY:Dr. V.K. Williams Memorial Debate
DESCRIPTION:\nhttps://mountcarmelschool.com/mcsevent/dr-v-k-williams-memori
 al-debate/
URL:https://mountcarmelschool.com/mcsevent/dr-v-k-williams-memorial-debate/
END:VEVENT
END:VCALENDAR