BEGIN:VCALENDAR
VERSION:2.0
PRODID:-//eventon.com NONSGML v1.0//EN
CALSCALE:GREGORIAN
METHOD:PUBLISH
BEGIN:VEVENT
UID:69e8990bec35a
DTSTAMP:20260422T094651Z
DTSTART:20250405T023000Z
DTEND:20250405T113000Z
LOCATION:
SUMMARY:Combined Prayer Meet
DESCRIPTION:\nhttps://mountcarmelschool.com/mcsevent/combined-prayer-meet/
URL:https://mountcarmelschool.com/mcsevent/combined-prayer-meet/
END:VEVENT
END:VCALENDAR